BEGIN:VCALENDAR
VERSION:2.0
PRODID:-//hacksw/handcal//NONSGML v1.0//EN
BEGIN:VEVENT
UID:db7f96272823820628230f1d0577a69d
DTSTAMP:20260425T220523Z

DTSTART:20240907T080000
DTEND:20240908T180000
SUMMARY:Raid de La Vallée de La Blanche
DESCRIPTION:28ème Édition du Raid de La Vallée de La Blanche
Les samedi 7 et Dimanche 8 septembre 2024

LOCATION:
END:VEVENT

END:VCALENDAR
